{
 "currentVersion": 10.81,
 "serviceDescription": "Alastar/Artisphere_Site_Map_SVG_tiff",
 "name": "Alastar/Artisphere_Site_Map_SVG_tiff",
 "description": "",
 "extent": {
  "xmin": 1577372.5750106939,
  "ymin": 1097242.1147236635,
  "xmax": 1580802.889440232,
  "ymax": 1100740.271729615,
  "spatialReference": {
   "wkid": 103146,
   "latestWkid": 6570
  }
 },
 "initialExtent": {
  "xmin": 1577372.5750106939,
  "ymin": 1097242.1147236635,
  "xmax": 1580802.889440232,
  "ymax": 1100740.271729615,
  "spatialReference": {
   "wkid": 103146,
   "latestWkid": 6570
  }
 },
 "fullExtent": {
  "xmin": 1577372.5750106939,
  "ymin": 1097242.1147236635,
  "xmax": 1580802.889440232,
  "ymax": 1100740.271729615,
  "spatialReference": {
   "wkid": 103146,
   "latestWkid": 6570
  }
 },
 "pixelSizeX": 1.3859856280961986,
 "pixelSizeY": 1.3490771330318192,
 "datasetFormat": "TIFF",
 "uncompressedSize": 25670700,
 "blockWidth": 2475,
 "blockHeight": 96,
 "compressionType": "None",
 "bandNames": [
  "Band_1",
  "Band_2",
  "Band_3",
  "Band_4"
 ],
 "allowCopy": true,
 "allowAnalysis": true,
 "bandCount": 4,
 "pixelType": "U8",
 "minPixelSize": 0,
 "maxPixelSize": 0,
 "copyrightText": "",
 "serviceDataType": "esriImageServiceDataTypeGeneric",
 "serviceSourceType": "esriImageServiceSourceTypeDataset",
 "minValues": [
  0,
  0,
  0,
  255
 ],
 "maxValues": [
  255,
  255,
  255,
  255
 ],
 "meanValues": [
  244.34630563248,
  244.33244874508,
  244.20378906691,
  255
 ],
 "stdvValues": [
  36.342940542677,
  36.184246042014,
  36.697890773778,
  0
 ],
 "objectIdField": "",
 "fields": [],
 "capabilities": "Image",
 "defaultMosaicMethod": "Center",
 "allowedMosaicMethods": "",
 "sortField": "",
 "sortValue": null,
 "sortAscending": true,
 "mosaicOperator": "First",
 "defaultCompressionQuality": 75,
 "defaultResamplingMethod": "Bilinear",
 "maxImageHeight": 4100,
 "maxImageWidth": 15000,
 "allowRasterFunction": true,
 "rasterFunctionInfos": [
  {
   "name": "None",
   "description": "",
   "help": ""
  }
 ],
 "rasterTypeInfos": [
  {
   "name": "Raster Dataset",
   "description": "Supports all ArcGIS Raster Datasets",
   "help": ""
  }
 ],
 "mensurationCapabilities": "Basic",
 "hasHistograms": true,
 "hasColormap": false,
 "hasRasterAttributeTable": false,
 "minScale": 0,
 "maxScale": 0,
 "exportTilesAllowed": false,
 "hasMultidimensions": false,
 "supportsStatistics": false,
 "supportsAdvancedQueries": false,
 "editFieldsInfo": null,
 "ownershipBasedAccessControlForRasters": null,
 "allowComputeTiePoints": false,
 "useStandardizedQueries": false,
 "advancedQueryCapabilities": {
  "useStandardizedQueries": false,
  "supportsStatistics": false,
  "supportsOrderBy": false,
  "supportsDistinct": false,
  "supportsPagination": false
 },
 "spatialReference": {
  "wkid": 103146,
  "latestWkid": 6570
 }
}
