{
 "currentVersion": 10.81,
 "serviceDescription": "2011 Aerial Photography ",
 "mapName": "Layers",
 "description": "",
 "copyrightText": "City of Greenville, SC; Pictometry",
 "supportsDynamicLayers": false,
 "layers": [
  {
   "id": 0,
   "name": "Cache Extent Boundary",
   "parentLayerId": -1,
   "defaultVisibility": true,
   "subLayerIds": null,
   "minScale": 0,
   "maxScale": 0,
   "type": "Feature Layer",
   "geometryType": "esriGeometryPolygon"
  }
 ],
 "tables": [],
 "spatialReference": {
  "wkid": 3361,
  "latestWkid": 3361
 },
 "singleFusedMapCache": true,
 "tileInfo": {
  "rows": 256,
  "cols": 256,
  "dpi": 96,
  "format": "JPEG",
  "compressionQuality": 90,
  "origin": {
   "x": -122907600,
   "y": 157014500
  },
  "spatialReference": {
   "wkid": 3361,
   "latestWkid": 3361
  },
  "lods": [
   {
    "level": 0,
    "resolution": 125.0002500005,
    "scale": 144000
   },
   {
    "level": 1,
    "resolution": 62.50012500025,
    "scale": 72000
   },
   {
    "level": 2,
    "resolution": 31.250062500125,
    "scale": 36000
   },
   {
    "level": 3,
    "resolution": 15.6250312500625,
    "scale": 18000
   },
   {
    "level": 4,
    "resolution": 7.81251562503125,
    "scale": 9000
   },
   {
    "level": 5,
    "resolution": 4.166675000016666,
    "scale": 4800
   },
   {
    "level": 6,
    "resolution": 3.1250062500125,
    "scale": 3600
   },
   {
    "level": 7,
    "resolution": 2.083337500008333,
    "scale": 2400
   },
   {
    "level": 8,
    "resolution": 1.0416687500041666,
    "scale": 1200
   },
   {
    "level": 9,
    "resolution": 0.5208343750020833,
    "scale": 600
   },
   {
    "level": 10,
    "resolution": 0.26041718750104165,
    "scale": 300
   }
  ]
 },
 "initialExtent": {
  "xmin": 1569995.5812026532,
  "ymin": 1082842.1994653244,
  "xmax": 1614319.3828038257,
  "ymax": 1120752.9542279148,
  "spatialReference": {
   "wkid": 3361,
   "latestWkid": 3361
  }
 },
 "fullExtent": {
  "xmin": 1569059.697178482,
  "ymin": 1069871.7985564251,
  "xmax": 1614907.4947506487,
  "ymax": 1115980.1217191792,
  "spatialReference": {
   "wkid": 3361,
   "latestWkid": 3361
  }
 },
 "minScale": 144000,
 "maxScale": 300,
 "units": "esriFeet",
 "supportedImageFormatTypes": "PNG32,PNG24,PNG,JPG,DIB,TIFF,EMF,PS,PDF,GIF,SVG,SVGZ,BMP",
 "documentInfo": {
  "Title": "CityImagery_2011PictometrySP",
  "Author": "City of Greenville GIS Division",
  "Comments": "2011 Aerial Photography",
  "Subject": "2011 Pictometry Aerial Photography",
  "Category": "",
  "AntialiasingMode": "None",
  "TextAntialiasingMode": "Force",
  "Keywords": "aerial photography,greenville"
 },
 "capabilities": "Map",
 "supportedQueryFormats": "JSON, geoJSON",
 "exportTilesAllowed": false,
 "referenceScale": 0,
 "datumTransformations": [
  {
   "geoTransforms": [
    {
     "wkid": 108001,
     "latestWkid": 1241,
     "transformForward": true,
     "name": "NAD_1927_To_NAD_1983_NADCON"
    }
   ]
  },
  {
   "geoTransforms": [
    {
     "wkid": 108001,
     "latestWkid": 1241,
     "transformForward": false,
     "name": "NAD_1927_To_NAD_1983_NADCON"
    }
   ]
  },
  {
   "geoTransforms": [
    {
     "wkid": 108355,
     "latestWkid": 108355,
     "transformForward": false,
     "name": "NAD_1983_HARN_To_NAD_1983_2011"
    }
   ]
  },
  {
   "geoTransforms": [
    {
     "wkid": 108355,
     "latestWkid": 108355,
     "transformForward": true,
     "name": "NAD_1983_HARN_To_NAD_1983_2011"
    }
   ]
  }
 ],
 "supportsDatumTransformation": true,
 "maxRecordCount": 1000,
 "maxImageHeight": 4096,
 "maxImageWidth": 4096,
 "supportedExtensions": ""
}
