{
 "currentVersion": 10.81,
 "serviceDescription": "Imagery flown in February 2021",
 "mapName": "Layers",
 "description": "",
 "copyrightText": "City of Greenville and Pictometry (EagleView)",
 "supportsDynamicLayers": false,
 "layers": [
  {
   "id": 0,
   "name": "City Limit",
   "parentLayerId": -1,
   "defaultVisibility": true,
   "subLayerIds": null,
   "minScale": 0,
   "maxScale": 0,
   "type": "Feature Layer",
   "geometryType": "esriGeometryPolygon"
  }
 ],
 "tables": [],
 "spatialReference": {
  "wkid": 3361,
  "latestWkid": 3361
 },
 "singleFusedMapCache": true,
 "tileInfo": {
  "rows": 256,
  "cols": 256,
  "dpi": 96,
  "format": "JPEG",
  "compressionQuality": 90,
  "origin": {
   "x": -1.35397971928534E8,
   "y": 1.74688138261433E8
  },
  "spatialReference": {
   "wkid": 3361,
   "latestWkid": 3361
  },
  "lods": [
   {
    "level": 0,
    "resolution": 125.0002500005,
    "scale": 144000
   },
   {
    "level": 1,
    "resolution": 62.50012500025,
    "scale": 72000
   },
   {
    "level": 2,
    "resolution": 31.250062500125,
    "scale": 36000
   },
   {
    "level": 3,
    "resolution": 15.6250312500625,
    "scale": 18000
   },
   {
    "level": 4,
    "resolution": 7.81251562503125,
    "scale": 9000
   },
   {
    "level": 5,
    "resolution": 4.166675000016666,
    "scale": 4800
   },
   {
    "level": 6,
    "resolution": 3.1250062500125,
    "scale": 3600
   },
   {
    "level": 7,
    "resolution": 2.083337500008333,
    "scale": 2400
   },
   {
    "level": 8,
    "resolution": 1.0416687500041666,
    "scale": 1200
   },
   {
    "level": 9,
    "resolution": 0.5208343750020833,
    "scale": 600
   },
   {
    "level": 10,
    "resolution": 0.26041718750104165,
    "scale": 300
   }
  ]
 },
 "initialExtent": {
  "xmin": 1548978.277730372,
  "ymin": 1075401.0537542705,
  "xmax": 1627294.1855802068,
  "ymax": 1142385.7226962545,
  "spatialReference": {
   "wkid": 3361,
   "latestWkid": 3361
  }
 },
 "fullExtent": {
  "xmin": 1567771.749999995,
  "ymin": 1067442.749999995,
  "xmax": 1616222.0000000007,
  "ymax": 1120862.7500000172,
  "spatialReference": {
   "wkid": 3361,
   "latestWkid": 3361
  }
 },
 "minScale": 144000,
 "maxScale": 300,
 "units": "esriFeet",
 "supportedImageFormatTypes": "PNG32,PNG24,PNG,JPG,DIB,TIFF,EMF,PS,PDF,GIF,SVG,SVGZ,BMP",
 "documentInfo": {
  "Title": "",
  "Author": "",
  "Comments": "Imagery flown in February 2021",
  "Subject": "2021 Imagery",
  "Category": "",
  "AntialiasingMode": "None",
  "TextAntialiasingMode": "Force",
  "Keywords": "aerial photography,imagery,pictometry"
 },
 "capabilities": "Map",
 "supportedQueryFormats": "JSON, geoJSON",
 "exportTilesAllowed": false,
 "referenceScale": 0,
 "datumTransformations": [
  {
   "geoTransforms": [
    {
     "wkid": 108355,
     "latestWkid": 108355,
     "transformForward": false,
     "name": "NAD_1983_HARN_To_NAD_1983_2011"
    }
   ]
  },
  {
   "geoTransforms": [
    {
     "wkid": 108355,
     "latestWkid": 108355,
     "transformForward": true,
     "name": "NAD_1983_HARN_To_NAD_1983_2011"
    }
   ]
  }
 ],
 "supportsDatumTransformation": true,
 "maxRecordCount": 1000,
 "maxImageHeight": 4096,
 "maxImageWidth": 4096,
 "supportedExtensions": ""
}
