{
 "currentVersion": 10.81,
 "serviceDescription": "Imagery flown in February 2026",
 "mapName": "Layers",
 "description": "",
 "copyrightText": "Eagleview, City of Greenville",
 "supportsDynamicLayers": false,
 "layers": [
  {
   "id": 0,
   "name": "City Limit",
   "parentLayerId": -1,
   "defaultVisibility": true,
   "subLayerIds": null,
   "minScale": 0,
   "maxScale": 0,
   "type": "Feature Layer",
   "geometryType": "esriGeometryPolygon"
  }
 ],
 "tables": [],
 "spatialReference": {
  "wkid": 103146,
  "latestWkid": 6570
 },
 "singleFusedMapCache": true,
 "tileInfo": {
  "rows": 256,
  "cols": 256,
  "dpi": 96,
  "format": "MIXED",
  "compressionQuality": 75,
  "origin": {
   "x": -122907600,
   "y": 157014500
  },
  "spatialReference": {
   "wkid": 103146,
   "latestWkid": 6570
  },
  "lods": [
   {
    "level": 0,
    "resolution": 125.0002500005,
    "scale": 144000
   },
   {
    "level": 1,
    "resolution": 62.50012500025,
    "scale": 72000
   },
   {
    "level": 2,
    "resolution": 31.250062500125,
    "scale": 36000
   },
   {
    "level": 3,
    "resolution": 15.6250312500625,
    "scale": 18000
   },
   {
    "level": 4,
    "resolution": 7.81251562503125,
    "scale": 9000
   },
   {
    "level": 5,
    "resolution": 4.166675000016666,
    "scale": 4800
   },
   {
    "level": 6,
    "resolution": 3.1250062500125,
    "scale": 3600
   },
   {
    "level": 7,
    "resolution": 2.083337500008333,
    "scale": 2400
   },
   {
    "level": 8,
    "resolution": 1.0416687500041666,
    "scale": 1200
   },
   {
    "level": 9,
    "resolution": 0.5208343750020833,
    "scale": 600
   },
   {
    "level": 10,
    "resolution": 0.26041718750104165,
    "scale": 300
   }
  ]
 },
 "initialExtent": {
  "xmin": 1542554.0800422374,
  "ymin": 1077934.1419440303,
  "xmax": 1644376.996708904,
  "ymax": 1143689.3502773633,
  "spatialReference": {
   "wkid": 103146,
   "latestWkid": 6570
  }
 },
 "fullExtent": {
  "xmin": 1542554.0800422374,
  "ymin": 1039652.8919440296,
  "xmax": 1644376.996708904,
  "ymax": 1143689.3502773636,
  "spatialReference": {
   "wkid": 103146,
   "latestWkid": 6570
  }
 },
 "minScale": 144000,
 "maxScale": 300,
 "units": "esriFeet",
 "supportedImageFormatTypes": "PNG32,PNG24,PNG,JPG,DIB,TIFF,EMF,PS,PDF,GIF,SVG,SVGZ,BMP",
 "documentInfo": {
  "Title": "",
  "Author": "Jeff McLeroy",
  "Comments": "Imagery flown in February 2026",
  "Subject": "Aerial Photography or Orthomosaics by Eagleview",
  "Category": "",
  "AntialiasingMode": "None",
  "TextAntialiasingMode": "Force",
  "Keywords": "Aerial,Photography,Imagery,2026"
 },
 "capabilities": "Map",
 "supportedQueryFormats": "JSON, geoJSON",
 "exportTilesAllowed": false,
 "referenceScale": 0,
 "supportsDatumTransformation": true,
 "maxRecordCount": 1000,
 "maxImageHeight": 4096,
 "maxImageWidth": 4096,
 "supportedExtensions": "",
 "resampling": false
}
