{
 "currentVersion": 10.81,
 "serviceDescription": "Cached 1997 Orthos from Greenville County",
 "mapName": "Layers",
 "description": "",
 "copyrightText": "City of Greenville, SC; Greenville County",
 "supportsDynamicLayers": true,
 "layers": [
  {
   "id": 0,
   "name": "City of Greenville Limit",
   "parentLayerId": -1,
   "defaultVisibility": false,
   "subLayerIds": null,
   "minScale": 0,
   "maxScale": 0,
   "type": "Feature Layer",
   "geometryType": "esriGeometryPolygon"
  }
 ],
 "tables": [],
 "spatialReference": {
  "wkid": 102100,
  "latestWkid": 3857
 },
 "singleFusedMapCache": true,
 "tileInfo": {
  "rows": 256,
  "cols": 256,
  "dpi": 96,
  "format": "JPEG",
  "compressionQuality": 90,
  "origin": {
   "x": -2.0037508342787E7,
   "y": 2.0037508342787E7
  },
  "spatialReference": {
   "wkid": 102100,
   "latestWkid": 3857
  },
  "lods": [
   {
    "level": 0,
    "resolution": 38.21851414253662,
    "scale": 144447.638572
   },
   {
    "level": 1,
    "resolution": 19.10925707126831,
    "scale": 72223.819286
   },
   {
    "level": 2,
    "resolution": 9.554628535634155,
    "scale": 36111.909643
   },
   {
    "level": 3,
    "resolution": 4.77731426794937,
    "scale": 18055.954822
   },
   {
    "level": 4,
    "resolution": 2.388657133974685,
    "scale": 9027.977411
   },
   {
    "level": 5,
    "resolution": 1.1943285668550503,
    "scale": 4513.988705
   },
   {
    "level": 6,
    "resolution": 0.5971642835598172,
    "scale": 2256.994353
   },
   {
    "level": 7,
    "resolution": 0.29858214164761665,
    "scale": 1128.497176
   },
   {
    "level": 8,
    "resolution": 0.158750317500635,
    "scale": 600
   }
  ]
 },
 "initialExtent": {
  "xmin": -9181356.499141697,
  "ymin": 4143082.83520196,
  "xmax": -9155467.933490355,
  "ymax": 4151921.483061542,
  "spatialReference": {
   "cs": "pcs",
   "wkid": 102100
  }
 },
 "fullExtent": {
  "xmin": -9176844.198094698,
  "ymin": 4132064.8077306547,
  "xmax": -9159615.005836457,
  "ymax": 4149468.0134906857,
  "spatialReference": {
   "cs": "pcs",
   "wkid": 102100
  }
 },
 "minScale": 144447.638572,
 "maxScale": 600,
 "units": "esriMeters",
 "supportedImageFormatTypes": "PNG32,PNG24,PNG,JPG,DIB,TIFF,EMF,PS,PDF,GIF,SVG,SVGZ,BMP",
 "documentInfo": {
  "Title": "1997 Black and White Orthophotography",
  "Author": "City of Greenville, SC",
  "Comments": "Cached 1997 Orthos from Greenville County",
  "Subject": "Cached 1997 Orthos from Greenville County",
  "Category": "",
  "AntialiasingMode": "None",
  "TextAntialiasingMode": "Force",
  "Keywords": "1997 photography"
 },
 "capabilities": "Map",
 "supportedQueryFormats": "JSON, geoJSON",
 "exportTilesAllowed": false,
 "referenceScale": 0,
 "datumTransformations": [
  {
   "geoTransforms": [
    {
     "wkid": 108001,
     "latestWkid": 1241,
     "transformForward": true,
     "name": "NAD_1927_To_NAD_1983_NADCON"
    }
   ]
  },
  {
   "geoTransforms": [
    {
     "wkid": 108001,
     "latestWkid": 1241,
     "transformForward": false,
     "name": "NAD_1927_To_NAD_1983_NADCON"
    }
   ]
  },
  {
   "geoTransforms": [
    {
     "wkid": 1901,
     "latestWkid": 1901,
     "transformForward": true,
     "name": "NAD_1983_HARN_To_WGS_1984_3"
    }
   ]
  },
  {
   "geoTransforms": [
    {
     "wkid": 1901,
     "latestWkid": 1901,
     "transformForward": false,
     "name": "NAD_1983_HARN_To_WGS_1984_3"
    }
   ]
  },
  {
   "geoTransforms": [
    {
     "wkid": 108363,
     "latestWkid": 108363,
     "transformForward": false,
     "name": "WGS_1984_(ITRF08)_To_NAD_1983_2011"
    }
   ]
  },
  {
   "geoTransforms": [
    {
     "wkid": 108363,
     "latestWkid": 108363,
     "transformForward": true,
     "name": "WGS_1984_(ITRF08)_To_NAD_1983_2011"
    }
   ]
  }
 ],
 "supportsDatumTransformation": true,
 "maxRecordCount": 1000,
 "maxImageHeight": 4096,
 "maxImageWidth": 4096,
 "supportedExtensions": "KmlServer"
}
