View In:
ArcGIS JavaScript
ArcGIS Online Map Viewer
ArcGIS Earth
ArcMap
View Footprint In:
ArcGIS Online Map Viewer
Service Description: Alastar/Artisphere_Site_Map_SVG_tiff
Name: Alastar/Artisphere_Site_Map_SVG_tiff
Description:
Single Fused Map Cache: false
Extent:
XMin: 1577372.5750106939
YMin: 1097242.1147236635
XMax: 1580802.889440232
YMax: 1100740.271729615
Spatial Reference: 103146
(6570)
Initial Extent:
XMin: 1577372.5750106939
YMin: 1097242.1147236635
XMax: 1580802.889440232
YMax: 1100740.271729615
Spatial Reference: 103146
(6570)
Full Extent:
XMin: 1577372.5750106939
YMin: 1097242.1147236635
XMax: 1580802.889440232
YMax: 1100740.271729615
Spatial Reference: 103146
(6570)
Pixel Size X: 1.3859856280961986
Pixel Size Y: 1.3490771330318192
Band Count: 4
Pixel Type: U8
RasterFunction Infos: {"rasterFunctionInfos": [{
"name": "None",
"description": "",
"help": ""
}]}
Mensuration Capabilities: Basic
Has Histograms: true
Has Colormap: false
Has Multi Dimensions : false
Rendering Rule:
Min Scale: 0
Max Scale: 0
Copyright Text:
Service Data Type: esriImageServiceDataTypeGeneric
Min Values: 0, 0, 0, 255
Max Values: 255, 255, 255, 255
Mean Values: 244.34630563248, 244.33244874508, 244.20378906691, 255
Standard Deviation Values: 36.342940542677, 36.184246042014, 36.697890773778, 0
Object ID Field:
Fields:
None
Default Mosaic Method: Center
Allowed Mosaic Methods:
SortField:
SortValue: null
Mosaic Operator: First
Default Compression Quality: 75
Default Resampling Method: Bilinear
Max Record Count: null
Max Image Height: 4100
Max Image Width: 15000
Max Download Image Count: null
Max Mosaic Image Count: null
Allow Raster Function: true
Allow Copy: true
Allow Analysis: true
Allow Compute TiePoints: false
Supports Statistics: false
Supports Advanced Queries: false
Use StandardizedQueries: false
Raster Type Infos:
Name: Raster Dataset
Description: Supports all ArcGIS Raster Datasets
Help:
Has Raster Attribute Table: false
Edit Fields Info: null
Ownership Based AccessControl For Rasters: null
Child Resources:
Info
Histograms
Statistics
Key Properties
Legend
Raster Function Infos
Supported Operations:
Export Image
Identify
Compute Histograms
Compute Statistics Histograms
Get Samples
Compute Class Statistics
Query Boundary
Compute Pixel Location
Validate
Project